
 BEGIN:VCALENDAR
VERSION:2.0
PRODID:-//The Arts Society Blackmore Vale - ECPv6.15.18//NONSGML v1.0//EN
CALSCALE:GREGORIAN
METHOD:PUBLISH
X-WR-CALNAME:The Arts Society Blackmore Vale
X-ORIGINAL-URL:https://theartssocietyblackmorevale.org.uk
X-WR-CALDESC:Events for The Arts Society Blackmore Vale
REFRESH-INTERVAL;VALUE=DURATION:PT1H
X-Robots-Tag:noindex
X-PUBLISHED-TTL:PT1H
BEGIN:VTIMEZONE
TZID:UTC
BEGIN:STANDARD
TZOFFSETFROM:+0000
TZOFFSETTO:+0000
TZNAME:UTC
DTSTART:20250101T000000
END:STANDARD
END:VTIMEZONE
BEGIN:VTIMEZONE
TZID:Europe/Paris
BEGIN:DAYLIGHT
TZOFFSETFROM:+0100
TZOFFSETTO:+0200
TZNAME:CEST
DTSTART:20250330T010000
END:DAYLIGHT
BEGIN:STANDARD
TZOFFSETFROM:+0200
TZOFFSETTO:+0100
TZNAME:CET
DTSTART:20251026T010000
END:STANDARD
BEGIN:DAYLIGHT
TZOFFSETFROM:+0100
TZOFFSETTO:+0200
TZNAME:CEST
DTSTART:20260329T010000
END:DAYLIGHT
BEGIN:STANDARD
TZOFFSETFROM:+0200
TZOFFSETTO:+0100
TZNAME:CET
DTSTART:20261025T010000
END:STANDARD
BEGIN:DAYLIGHT
TZOFFSETFROM:+0100
TZOFFSETTO:+0200
TZNAME:CEST
DTSTART:20270328T010000
END:DAYLIGHT
BEGIN:STANDARD
TZOFFSETFROM:+0200
TZOFFSETTO:+0100
TZNAME:CET
DTSTART:20271031T010000
END:STANDARD
END:VTIMEZONE
BEGIN:VEVENT
DTSTART;TZID=UTC:20260507T113000
DTEND;TZID=UTC:20260507T123000
DTSTAMP:20260424T144244
CREATED:20250531T101232Z
LAST-MODIFIED:20251117T111602Z
UID:14334-1778153400-1778157000@theartssocietyblackmorevale.org.uk
SUMMARY:A Celebration of Nature; Antoni Gaudi ( 1852-1926) and other Catalan Architects
DESCRIPTION:This Event Is Open to Non-Members\n\n\n\n	About the event\nWe shall arrive at 6pm for drinks and canapes\njoined by the Estate Manager\, Owen Davies\nwho will give us an exclusive talk covering the history of\nthis magnificent Tudor manor with over twenty historic rooms.\nWe shall also hear about the five acres of walled gardens and terraces constructed by Inigo Thomas in the 1890s \nWe shall then be able to freely tour the house and gardens as this is a totally private visit. \nIt might help some members to consider asking to car-share –\nemail casadelpato@hotmail.co.uk \nRemember that St Nicholas Church\, Moreton is very close by should you wish to extend the day and visit the 13 decorative windows by Lawrence Whistler prior to Athelhampton. \nThis will be a truly enlightening evening in delightful surroundings.\nCost of the event - £40 per person \n\n\n\n			\n		\n			\n			BOOK NOW		\n			\n	\n\n\n	Book your place on the Evening Celebration\n \n\n\n\n	The Gardens\n\n\n\n	The gardens at Athelhampton are renowned for their stunning beauty and historic design\, offering visitors a tranquil escape into nature. Strolling through the grounds\, you'll find carefully manicured lawns\, vibrant flower beds\, and unique architectural features that showcase the estate's rich heritage. \n\n\n\n	click a picture to see an enlarged version \n\n	\n					\n													\n																	\n													\n						Athelhampton House\, Dorset by Christine Matthews					\n							\n					\n													\n																	\n													\n						Topiary garden					\n							\n					\n													\n																	\n											\n					\n													\n																	\n													\n						The Corona					\n							\n					\n													\n																	\n													\n						Bridge over the river Piddle					\n							\n			\n\n\n	Athelhampton HOUSE\n\n\n\n	Athelhampton House is recognized as one of England's finest Tudor manor houses\, built in 1485. Its historical importance is highlighted by its largely unchanged Great Hall\, which features a remarkable hammer-beam roof and exquisite stained glass windows. This architectural style is emblematic of the Tudor period\, making the house a significant example of that era. \n\n\n\n	click a picture to see an enlarged version \n\n	\n					\n													\n																	\n													\n						Athelhampton Elizabethan Kitchen as restored 2022					\n							\n					\n													\n																	\n													\n						The Great Hall\, Athelhampton House\, Dorset					\n							\n					\n													\n																	\n													\n						The Kings Room\, Athelhampton House - geograph.org.uk					\n							\n					\n													\n																	\n													\n						Beautiful Tudor traceried  window in the Great Hall					\n							\n					\n													\n																	\n													\n						An Unusual Bathroom Athelhampton House					\n							\n			\n\n\n		\n	\n\n\n\n	\nLecturer: [Enter the lecturer's name]\n\n\n[Enter the lecturer's resume] \n\n\nExtra Information\n\n	\nExtra information on events\n\n	Extra Information\nAdd extra information - promised by the lecturer such as reading list\,  postponed of cancelled information\, and anything you think the audience would like know. \nIf there is nothing set attribute css "display:none;" \n  \n\nhttps://www.youtube.com/watch?v=kFRbIjFkkJU
URL:https://theartssocietyblackmorevale.org.uk/event/a-celebration-of-nature/
LOCATION:Stalbridge Hall\, Stalbridge Hall\, Lower Road\, Stalbridge\, Sturminster Newton\, Dorset\, DT10 2NF\, United Kingdom.
CATEGORIES:Monthly Lecture
ATTACH;FMTTYPE=image/jpeg:https://theartssocietyblackmorevale.org.uk/wp-content/uploads/2025/05/Casa_Batllo_Casa_dels_ossos_in_Barcelona_by_Antoni_Gaudi.jpg
END:VEVENT
BEGIN:VEVENT
DTSTART;TZID=UTC:20260604T113000
DTEND;TZID=UTC:20260604T123000
DTSTAMP:20260424T144244
CREATED:20250531T110248Z
LAST-MODIFIED:20251116T131050Z
UID:14339-1780572600-1780576200@theartssocietyblackmorevale.org.uk
SUMMARY:Elisabeth Frink: the expressive power of bronze
DESCRIPTION:This Event Is Open to Non-Members\n\n\n\n	About the event\nWe shall arrive at 6pm for drinks and canapes\njoined by the Estate Manager\, Owen Davies\nwho will give us an exclusive talk covering the history of\nthis magnificent Tudor manor with over twenty historic rooms.\nWe shall also hear about the five acres of walled gardens and terraces constructed by Inigo Thomas in the 1890s \nWe shall then be able to freely tour the house and gardens as this is a totally private visit. \nIt might help some members to consider asking to car-share –\nemail casadelpato@hotmail.co.uk \nRemember that St Nicholas Church\, Moreton is very close by should you wish to extend the day and visit the 13 decorative windows by Lawrence Whistler prior to Athelhampton. \nThis will be a truly enlightening evening in delightful surroundings.\nCost of the event - £40 per person \n\n\n\n			\n		\n			\n			BOOK NOW		\n			\n	\n\n\n	Book your place on the Evening Celebration\n \n\n\n\n	The Gardens\n\n\n\n	The gardens at Athelhampton are renowned for their stunning beauty and historic design\, offering visitors a tranquil escape into nature. Strolling through the grounds\, you'll find carefully manicured lawns\, vibrant flower beds\, and unique architectural features that showcase the estate's rich heritage. \n\n\n\n	click a picture to see an enlarged version \n\n	\n					\n													\n																	\n													\n						Athelhampton House\, Dorset by Christine Matthews					\n							\n					\n													\n																	\n													\n						Topiary garden					\n							\n					\n													\n																	\n											\n					\n													\n																	\n													\n						The Corona					\n							\n					\n													\n																	\n													\n						Bridge over the river Piddle					\n							\n			\n\n\n	Athelhampton HOUSE\n\n\n\n	Athelhampton House is recognized as one of England's finest Tudor manor houses\, built in 1485. Its historical importance is highlighted by its largely unchanged Great Hall\, which features a remarkable hammer-beam roof and exquisite stained glass windows. This architectural style is emblematic of the Tudor period\, making the house a significant example of that era. \n\n\n\n	click a picture to see an enlarged version \n\n	\n					\n													\n																	\n													\n						Athelhampton Elizabethan Kitchen as restored 2022					\n							\n					\n													\n																	\n													\n						The Great Hall\, Athelhampton House\, Dorset					\n							\n					\n													\n																	\n													\n						The Kings Room\, Athelhampton House - geograph.org.uk					\n							\n					\n													\n																	\n													\n						Beautiful Tudor traceried  window in the Great Hall					\n							\n					\n													\n																	\n													\n						An Unusual Bathroom Athelhampton House					\n							\n			\n\n\n		\n	\n\n\n\n	\nLecturer: [Enter the lecturer's name]\n\n\n[Enter the lecturer's resume] \n\n\nExtra Information\n\n	\nExtra information on events\n\n	Extra Information\nAdd extra information - promised by the lecturer such as reading list\,  postponed of cancelled information\, and anything you think the audience would like know. \nIf there is nothing set attribute css "display:none;" \n  \n\nhttps://www.youtube.com/watch?v=kFRbIjFkkJU
URL:https://theartssocietyblackmorevale.org.uk/event/elisabeth-frink/
LOCATION:Stalbridge Hall\, Stalbridge Hall\, Lower Road\, Stalbridge\, Sturminster Newton\, Dorset\, DT10 2NF\, United Kingdom.
CATEGORIES:Monthly Lecture
ATTACH;FMTTYPE=image/jpeg:https://theartssocietyblackmorevale.org.uk/wp-content/uploads/2025/05/Horse_and_Rider_-_geograph.org_.uk_-_1556075.jpg
END:VEVENT
BEGIN:VEVENT
DTSTART;TZID=UTC:20260618T180000
DTEND;TZID=UTC:20260618T203000
DTSTAMP:20260424T144244
CREATED:20260331T195441Z
LAST-MODIFIED:20260424T114045Z
UID:16370-1781805600-1781814600@theartssocietyblackmorevale.org.uk
SUMMARY:Private Visit to Athelhampton House
DESCRIPTION:This Event Is Open to Non-Members\n\n\n\n	About the event\nWe shall arrive at 6pm for drinks and canapes\njoined by the Estate Manager\, Owen Davies\nwho will give us an exclusive talk covering the history of\nthis magnificent Tudor manor with over twenty historic rooms.\nWe shall also hear about the five acres of walled gardens and terraces constructed by Inigo Thomas in the 1890s \nWe shall then be able to freely tour the house and gardens as this is a totally private visit. \nIt might help some members to consider asking to car-share –\nemail casadelpato@hotmail.co.uk \nRemember that St Nicholas Church\, Moreton is very close by should you wish to extend the day and visit the 13 decorative windows by Lawrence Whistler prior to Athelhampton. \nThis will be a truly enlightening evening in delightful surroundings.\nCost of the event - £40 per person \n\n\n\n			\n		\n			\n			BOOK NOW		\n			\n	\n\n\n	Book your place on the Evening Celebration\n \n\n\n\n	The Gardens\n\n\n\n	The gardens at Athelhampton are renowned for their stunning beauty and historic design\, offering visitors a tranquil escape into nature. Strolling through the grounds\, you'll find carefully manicured lawns\, vibrant flower beds\, and unique architectural features that showcase the estate's rich heritage. \n\n\n\n	click a picture to see an enlarged version \n\n	\n					\n													\n																	\n													\n						Athelhampton House\, Dorset by Christine Matthews					\n							\n					\n													\n																	\n													\n						Topiary garden					\n							\n					\n													\n																	\n											\n					\n													\n																	\n													\n						The Corona					\n							\n					\n													\n																	\n													\n						Bridge over the river Piddle					\n							\n			\n\n\n	Athelhampton HOUSE\n\n\n\n	Athelhampton House is recognized as one of England's finest Tudor manor houses\, built in 1485. Its historical importance is highlighted by its largely unchanged Great Hall\, which features a remarkable hammer-beam roof and exquisite stained glass windows. This architectural style is emblematic of the Tudor period\, making the house a significant example of that era. \n\n\n\n	click a picture to see an enlarged version \n\n	\n					\n													\n																	\n													\n						Athelhampton Elizabethan Kitchen as restored 2022					\n							\n					\n													\n																	\n													\n						The Great Hall\, Athelhampton House\, Dorset					\n							\n					\n													\n																	\n													\n						The Kings Room\, Athelhampton House - geograph.org.uk					\n							\n					\n													\n																	\n													\n						Beautiful Tudor traceried  window in the Great Hall					\n							\n					\n													\n																	\n													\n						An Unusual Bathroom Athelhampton House					\n							\n			\n\n\n		\n	\n\n\n\n	\nLecturer: [Enter the lecturer's name]\n\n\n[Enter the lecturer's resume] \n\n\nExtra Information\n\n	\nExtra information on events\n\n	Extra Information\nAdd extra information - promised by the lecturer such as reading list\,  postponed of cancelled information\, and anything you think the audience would like know. \nIf there is nothing set attribute css "display:none;" \n  \n\nhttps://www.youtube.com/watch?v=kFRbIjFkkJU
URL:https://theartssocietyblackmorevale.org.uk/event/athelhampton-2026/
LOCATION:Athelhampton House\, Athelhampton House\, Athelhampton Rd\, Puddletown\, Dorchester\, Dorset\, DT2 7LG\, United Kingdom.
CATEGORIES:Evening Lecture
ATTACH;FMTTYPE=image/jpeg:https://theartssocietyblackmorevale.org.uk/wp-content/uploads/2026/03/Athelhampton_House_the_South_Front_-_geograph.org_.uk_-_811811.jpg
END:VEVENT
BEGIN:VEVENT
DTSTART;TZID=UTC:20260702T113000
DTEND;TZID=UTC:20260702T123000
DTSTAMP:20260424T144244
CREATED:20250531T111251Z
LAST-MODIFIED:20251206T090327Z
UID:14346-1782991800-1782995400@theartssocietyblackmorevale.org.uk
SUMMARY:Vermeer and Music - Art of Love and Leisure
DESCRIPTION:This Event Is Open to Non-Members\n\n\n\n	About the event\nWe shall arrive at 6pm for drinks and canapes\njoined by the Estate Manager\, Owen Davies\nwho will give us an exclusive talk covering the history of\nthis magnificent Tudor manor with over twenty historic rooms.\nWe shall also hear about the five acres of walled gardens and terraces constructed by Inigo Thomas in the 1890s \nWe shall then be able to freely tour the house and gardens as this is a totally private visit. \nIt might help some members to consider asking to car-share –\nemail casadelpato@hotmail.co.uk \nRemember that St Nicholas Church\, Moreton is very close by should you wish to extend the day and visit the 13 decorative windows by Lawrence Whistler prior to Athelhampton. \nThis will be a truly enlightening evening in delightful surroundings.\nCost of the event - £40 per person \n\n\n\n			\n		\n			\n			BOOK NOW		\n			\n	\n\n\n	Book your place on the Evening Celebration\n \n\n\n\n	The Gardens\n\n\n\n	The gardens at Athelhampton are renowned for their stunning beauty and historic design\, offering visitors a tranquil escape into nature. Strolling through the grounds\, you'll find carefully manicured lawns\, vibrant flower beds\, and unique architectural features that showcase the estate's rich heritage. \n\n\n\n	click a picture to see an enlarged version \n\n	\n					\n													\n																	\n													\n						Athelhampton House\, Dorset by Christine Matthews					\n							\n					\n													\n																	\n													\n						Topiary garden					\n							\n					\n													\n																	\n											\n					\n													\n																	\n													\n						The Corona					\n							\n					\n													\n																	\n													\n						Bridge over the river Piddle					\n							\n			\n\n\n	Athelhampton HOUSE\n\n\n\n	Athelhampton House is recognized as one of England's finest Tudor manor houses\, built in 1485. Its historical importance is highlighted by its largely unchanged Great Hall\, which features a remarkable hammer-beam roof and exquisite stained glass windows. This architectural style is emblematic of the Tudor period\, making the house a significant example of that era. \n\n\n\n	click a picture to see an enlarged version \n\n	\n					\n													\n																	\n													\n						Athelhampton Elizabethan Kitchen as restored 2022					\n							\n					\n													\n																	\n													\n						The Great Hall\, Athelhampton House\, Dorset					\n							\n					\n													\n																	\n													\n						The Kings Room\, Athelhampton House - geograph.org.uk					\n							\n					\n													\n																	\n													\n						Beautiful Tudor traceried  window in the Great Hall					\n							\n					\n													\n																	\n													\n						An Unusual Bathroom Athelhampton House					\n							\n			\n\n\n		\n	\n\n\n\n	\nLecturer: [Enter the lecturer's name]\n\n\n[Enter the lecturer's resume] \n\n\nExtra Information\n\n	\nExtra information on events\n\n	Extra Information\nAdd extra information - promised by the lecturer such as reading list\,  postponed of cancelled information\, and anything you think the audience would like know. \nIf there is nothing set attribute css "display:none;" \n  \n\nhttps://www.youtube.com/watch?v=kFRbIjFkkJU
URL:https://theartssocietyblackmorevale.org.uk/event/vermeer-and-music/
LOCATION:Stalbridge Hall\, Stalbridge Hall\, Lower Road\, Stalbridge\, Sturminster Newton\, Dorset\, DT10 2NF\, United Kingdom.
CATEGORIES:Monthly Lecture
ATTACH;FMTTYPE=image/jpeg:https://theartssocietyblackmorevale.org.uk/wp-content/uploads/2025/06/Vermeer_The_concert-croped-650.jpg
END:VEVENT
BEGIN:VEVENT
DTSTART;TZID=Europe/Paris:20261015T100000
DTEND;TZID=Europe/Paris:20261015T160000
DTSTAMP:20260424T144244
CREATED:20260210T101251Z
LAST-MODIFIED:20260407T084041Z
UID:16259-1792058400-1792080000@theartssocietyblackmorevale.org.uk
SUMMARY:Three Remarkable Women
DESCRIPTION:This Event Is Open to Non-Members\n\n\n\n	About the event\nWe shall arrive at 6pm for drinks and canapes\njoined by the Estate Manager\, Owen Davies\nwho will give us an exclusive talk covering the history of\nthis magnificent Tudor manor with over twenty historic rooms.\nWe shall also hear about the five acres of walled gardens and terraces constructed by Inigo Thomas in the 1890s \nWe shall then be able to freely tour the house and gardens as this is a totally private visit. \nIt might help some members to consider asking to car-share –\nemail casadelpato@hotmail.co.uk \nRemember that St Nicholas Church\, Moreton is very close by should you wish to extend the day and visit the 13 decorative windows by Lawrence Whistler prior to Athelhampton. \nThis will be a truly enlightening evening in delightful surroundings.\nCost of the event - £40 per person \n\n\n\n			\n		\n			\n			BOOK NOW		\n			\n	\n\n\n	Book your place on the Evening Celebration\n \n\n\n\n	The Gardens\n\n\n\n	The gardens at Athelhampton are renowned for their stunning beauty and historic design\, offering visitors a tranquil escape into nature. Strolling through the grounds\, you'll find carefully manicured lawns\, vibrant flower beds\, and unique architectural features that showcase the estate's rich heritage. \n\n\n\n	click a picture to see an enlarged version \n\n	\n					\n													\n																	\n													\n						Athelhampton House\, Dorset by Christine Matthews					\n							\n					\n													\n																	\n													\n						Topiary garden					\n							\n					\n													\n																	\n											\n					\n													\n																	\n													\n						The Corona					\n							\n					\n													\n																	\n													\n						Bridge over the river Piddle					\n							\n			\n\n\n	Athelhampton HOUSE\n\n\n\n	Athelhampton House is recognized as one of England's finest Tudor manor houses\, built in 1485. Its historical importance is highlighted by its largely unchanged Great Hall\, which features a remarkable hammer-beam roof and exquisite stained glass windows. This architectural style is emblematic of the Tudor period\, making the house a significant example of that era. \n\n\n\n	click a picture to see an enlarged version \n\n	\n					\n													\n																	\n													\n						Athelhampton Elizabethan Kitchen as restored 2022					\n							\n					\n													\n																	\n													\n						The Great Hall\, Athelhampton House\, Dorset					\n							\n					\n													\n																	\n													\n						The Kings Room\, Athelhampton House - geograph.org.uk					\n							\n					\n													\n																	\n													\n						Beautiful Tudor traceried  window in the Great Hall					\n							\n					\n													\n																	\n													\n						An Unusual Bathroom Athelhampton House					\n							\n			\n\n\n		\n	\n\n\n\n	\nLecturer: [Enter the lecturer's name]\n\n\n[Enter the lecturer's resume] \n\n\nExtra Information\n\n	\nExtra information on events\n\n	Extra Information\nAdd extra information - promised by the lecturer such as reading list\,  postponed of cancelled information\, and anything you think the audience would like know. \nIf there is nothing set attribute css "display:none;" \n  \n\nhttps://www.youtube.com/watch?v=kFRbIjFkkJU
URL:https://theartssocietyblackmorevale.org.uk/event/three-remarkable-women/
LOCATION:Arthur Morison Memorial Hall\, Cucklington\, Arthur Morison Memorial Hall\, Rowls Lane\, Cucklington.\, Wincanton\, Somerset\, BA9 9PY\, United Kingdom.
CATEGORIES:Day of Special Interest
ATTACH;FMTTYPE=image/png:https://theartssocietyblackmorevale.org.uk/wp-content/uploads/2026/02/threeRemarkableWomenFI.png
END:VEVENT
END:VCALENDAR